{"text_format":"1","workbook":"xlsx","n_sheets":4,"sheets":["form","setup","set","S"],"not_rendered":{"charts":0,"images":0,"macros":1,"external_links":0,"defined_names":0,"comments":0,"pivot_tables":0},"unopened":[],"bounds":{"document_bytes":16777216,"sheet_cells":100000,"rows_first":2000,"rows_last":500,"rows_between":2000,"halvings":0,"cell_chars":16384,"cell_head_chars":4096},"cells_cut":0,"cells_raw":0,"read":"whole","date_system":"1900"}

{"sheet":"form","index":0,"n_rows":0,"n_cols":0,"rows_kept":0,"cut":false,"hidden":false,"merged":[]}

{"sheet":"setup","index":1,"n_rows":104,"n_cols":7,"rows_kept":104,"cut":false,"hidden":false,"merged":[[0,2,0,3]]}
[null,"①","タイトルを入力してください",null,null,"（注：このsetupシートは設定用シートです。手順に従って設定のあと、非表示にして配布してください）"]
[]
[]
[null,"NO","②質問項目（入力）","③回答（式）",null,"＜設定の手順＞"]
[null,1]
[null,2,null,null,"□","送信用画面formシートを完成してください。"]
[null,3,null,null,null,"送信、集計、終了のボタンは配置や拡大縮小は自由です。"]
[null,4]
[null,5,null,null,"□","①C1にタイトル名を入力してください。（過去のタイトルと重複しないよう）"]
[null,6]
[null,7,null,null,"□","②個々の質問項目名を入力してください。"]
[null,8,null,null,null,"集計表の1行目項目に使用されますので、できるだけ簡潔な名称で。"]
[null,9]
[null,10,null,null,"□","③個々の回答が入力されるformシートのセルと数式で結んでください。"]
[null,11,null,null,null,"（例）ある回答がformシートのセルC5に入る場合"]
[null,12,null,null,null,"式:","=form!C5"]
[null,13]
[null,14,null,null,"□","formシート、このsetupシートが完成したら設定は完了です。"]
[null,15]
[null,16,null,null,"□","setupシートを非表示に設定して名前を付けて保存。"]
[null,17]
[null,18,null,null,"□","配布してください。"]
[null,19]
[null,20]
[null,21]
[null,22]
[null,23]
[null,24]
[null,25]
[null,26]
[null,27]
[null,28]
[null,29]
[null,30]
[null,31]
[null,32]
[null,33]
[null,34]
[null,35]
[null,36]
[null,37]
[null,38]
[null,39]
[null,40]
[null,41]
[null,42]
[null,43]
[null,44]
[null,45]
[null,46]
[null,47]
[null,48]
[null,49]
[null,50]
[null,51]
[null,52]
[null,53]
[null,54]
[null,55]
[null,56]
[null,57]
[null,58]
[null,59]
[null,60]
[null,61]
[null,62]
[null,63]
[null,64]
[null,65]
[null,66]
[null,67]
[null,68]
[null,69]
[null,70]
[null,71]
[null,72]
[null,73]
[null,74]
[null,75]
[null,76]
[null,77]
[null,78]
[null,79]
[null,80]
[null,81]
[null,82]
[null,83]
[null,84]
[null,85]
[null,86]
[null,87]
[null,88]
[null,89]
[null,90]
[null,91]
[null,92]
[null,93]
[null,94]
[null,95]
[null,96]
[null,97]
[null,98]
[null,99]
[null,100]

{"sheet":"set","index":2,"n_rows":101,"n_cols":13,"rows_kept":101,"cut":false,"hidden":true,"merged":[]}
["項目名","行no","列no","入力ﾁｪｯｸ","ファイル名=",{"$f":"setup!$C$1","v":"タイトルを入力してください"},null,null,null,"Option","stamp/行",23,"保存"]
[{"$f":"IF(setup!C5=\"\",\"\",setup!C5)","v":""},5,4,1,"fd=","taiken",null,null,null,null,"stamp/列",5]
[{"$f":"IF(setup!C6=\"\",\"\",setup!C6)","v":""},6,4,null,"id=","taiken",null,null,null,null,"Date="]
[{"$f":"IF(setup!C7=\"\",\"\",setup!C7)","v":""},7,4,null,"ps=","wp57pz12","電書鳩","電or予約"]
[{"$f":"IF(setup!C8=\"\",\"\",setup!C8)","v":""},8,4,null,"入会ｻｲﾄ","http://e-template.biz/register/","許可","連続送信の許可"]
[{"$f":"IF(setup!C9=\"\",\"\",setup!C9)","v":""},9,4]
[{"$f":"IF(setup!C10=\"\",\"\",setup!C10)","v":""},10,4]
[{"$f":"IF(setup!C11=\"\",\"\",setup!C11)","v":""},11,4]
[{"$f":"IF(setup!C12=\"\",\"\",setup!C12)","v":""},12,4]
[{"$f":"IF(setup!C13=\"\",\"\",setup!C13)","v":""},13,4,null,null,"←予約鳩・1次元送信ボタン"]
[{"$f":"IF(setup!C14=\"\",\"\",setup!C14)","v":""},14,4]
[{"$f":"IF(setup!C15=\"\",\"\",setup!C15)","v":""},15,4,null,null,"←予約鳩・2次元送信ボタン"]
[{"$f":"IF(setup!C16=\"\",\"\",setup!C16)","v":""},16,4]
[{"$f":"IF(setup!C17=\"\",\"\",setup!C17)","v":""},17,4,null,null,"←電書鳩・1次元送信ボタン"]
[{"$f":"IF(setup!C18=\"\",\"\",setup!C18)","v":""},18,4]
[{"$f":"IF(setup!C19=\"\",\"\",setup!C19)","v":""},19,4,null,null,"←電書鳩・2次元送信ボタン"]
[{"$f":"IF(setup!C20=\"\",\"\",setup!C20)","v":""},20,4]
[{"$f":"IF(setup!C21=\"\",\"\",setup!C21)","v":""},21,4,null,null,"←全集計結果を取得"]
[{"$f":"IF(setup!C22=\"\",\"\",setup!C22)","v":""},22,4]
[{"$f":"IF(setup!C23=\"\",\"\",setup!C23)","v":""},23,4,null,null,"←該当PCの送信内容のみ取得"]
[{"$f":"IF(setup!C24=\"\",\"\",setup!C24)","v":""},24,4]
[{"$f":"IF(setup!C25=\"\",\"\",setup!C25)","v":""},25,4,null,null,"←該当PC最新送信内容を再現"]
[{"$f":"IF(setup!C26=\"\",\"\",setup!C26)","v":""},26,4]
[{"$f":"IF(setup!C27=\"\",\"\",setup!C27)","v":""},27,4]
[{"$f":"IF(setup!C28=\"\",\"\",setup!C28)","v":""},28,4]
[{"$f":"IF(setup!C29=\"\",\"\",setup!C29)","v":""},29,4]
[{"$f":"IF(setup!C30=\"\",\"\",setup!C30)","v":""},30,4]
[{"$f":"IF(setup!C31=\"\",\"\",setup!C31)","v":""},31,4]
[{"$f":"IF(setup!C32=\"\",\"\",setup!C32)","v":""},32,4]
[{"$f":"IF(setup!C33=\"\",\"\",setup!C33)","v":""},33,4]
[{"$f":"IF(setup!C34=\"\",\"\",setup!C34)","v":""},34,4]
[{"$f":"IF(setup!C35=\"\",\"\",setup!C35)","v":""},35,4]
[{"$f":"IF(setup!C36=\"\",\"\",setup!C36)","v":""},36,4]
[{"$f":"IF(setup!C37=\"\",\"\",setup!C37)","v":""},37,4]
[{"$f":"IF(setup!C38=\"\",\"\",setup!C38)","v":""},38,4]
[{"$f":"IF(setup!C39=\"\",\"\",setup!C39)","v":""},39,4]
[{"$f":"IF(setup!C40=\"\",\"\",setup!C40)","v":""},40,4]
[{"$f":"IF(setup!C41=\"\",\"\",setup!C41)","v":""},41,4]
[{"$f":"IF(setup!C42=\"\",\"\",setup!C42)","v":""},42,4]
[{"$f":"IF(setup!C43=\"\",\"\",setup!C43)","v":""},43,4]
[{"$f":"IF(setup!C44=\"\",\"\",setup!C44)","v":""},44,4]
[{"$f":"IF(setup!C45=\"\",\"\",setup!C45)","v":""},45,4]
[{"$f":"IF(setup!C46=\"\",\"\",setup!C46)","v":""},46,4]
[{"$f":"IF(setup!C47=\"\",\"\",setup!C47)","v":""},47,4]
[{"$f":"IF(setup!C48=\"\",\"\",setup!C48)","v":""},48,4]
[{"$f":"IF(setup!C49=\"\",\"\",setup!C49)","v":""},49,4]
[{"$f":"IF(setup!C50=\"\",\"\",setup!C50)","v":""},50,4]
[{"$f":"IF(setup!C51=\"\",\"\",setup!C51)","v":""},51,4]
[{"$f":"IF(setup!C52=\"\",\"\",setup!C52)","v":""},52,4]
[{"$f":"IF(setup!C53=\"\",\"\",setup!C53)","v":""},53,4]
[{"$f":"IF(setup!C54=\"\",\"\",setup!C54)","v":""},54,4]
[{"$f":"IF(setup!C55=\"\",\"\",setup!C55)","v":""},55,4]
[{"$f":"IF(setup!C56=\"\",\"\",setup!C56)","v":""},56,4]
[{"$f":"IF(setup!C57=\"\",\"\",setup!C57)","v":""},57,4]
[{"$f":"IF(setup!C58=\"\",\"\",setup!C58)","v":""},58,4]
[{"$f":"IF(setup!C59=\"\",\"\",setup!C59)","v":""},59,4]
[{"$f":"IF(setup!C60=\"\",\"\",setup!C60)","v":""},60,4]
[{"$f":"IF(setup!C61=\"\",\"\",setup!C61)","v":""},61,4]
[{"$f":"IF(setup!C62=\"\",\"\",setup!C62)","v":""},62,4]
[{"$f":"IF(setup!C63=\"\",\"\",setup!C63)","v":""},63,4]
[{"$f":"IF(setup!C64=\"\",\"\",setup!C64)","v":""},64,4]
[{"$f":"IF(setup!C65=\"\",\"\",setup!C65)","v":""},65,4]
[{"$f":"IF(setup!C66=\"\",\"\",setup!C66)","v":""},66,4]
[{"$f":"IF(setup!C67=\"\",\"\",setup!C67)","v":""},67,4]
[{"$f":"IF(setup!C68=\"\",\"\",setup!C68)","v":""},68,4]
[{"$f":"IF(setup!C69=\"\",\"\",setup!C69)","v":""},69,4]
[{"$f":"IF(setup!C70=\"\",\"\",setup!C70)","v":""},70,4]
[{"$f":"IF(setup!C71=\"\",\"\",setup!C71)","v":""},71,4]
[{"$f":"IF(setup!C72=\"\",\"\",setup!C72)","v":""},72,4]
[{"$f":"IF(setup!C73=\"\",\"\",setup!C73)","v":""},73,4]
[{"$f":"IF(setup!C74=\"\",\"\",setup!C74)","v":""},74,4]
[{"$f":"IF(setup!C75=\"\",\"\",setup!C75)","v":""},75,4]
[{"$f":"IF(setup!C76=\"\",\"\",setup!C76)","v":""},76,4]
[{"$f":"IF(setup!C77=\"\",\"\",setup!C77)","v":""},77,4]
[{"$f":"IF(setup!C78=\"\",\"\",setup!C78)","v":""},78,4]
[{"$f":"IF(setup!C79=\"\",\"\",setup!C79)","v":""},79,4]
[{"$f":"IF(setup!C80=\"\",\"\",setup!C80)","v":""},80,4]
[{"$f":"IF(setup!C81=\"\",\"\",setup!C81)","v":""},81,4]
[{"$f":"IF(setup!C82=\"\",\"\",setup!C82)","v":""},82,4]
[{"$f":"IF(setup!C83=\"\",\"\",setup!C83)","v":""},83,4]
[{"$f":"IF(setup!C84=\"\",\"\",setup!C84)","v":""},84,4]
[{"$f":"IF(setup!C85=\"\",\"\",setup!C85)","v":""},85,4]
[{"$f":"IF(setup!C86=\"\",\"\",setup!C86)","v":""},86,4]
[{"$f":"IF(setup!C87=\"\",\"\",setup!C87)","v":""},87,4]
[{"$f":"IF(setup!C88=\"\",\"\",setup!C88)","v":""},88,4]
[{"$f":"IF(setup!C89=\"\",\"\",setup!C89)","v":""},89,4]
[{"$f":"IF(setup!C90=\"\",\"\",setup!C90)","v":""},90,4]
[{"$f":"IF(setup!C91=\"\",\"\",setup!C91)","v":""},91,4]
[{"$f":"IF(setup!C92=\"\",\"\",setup!C92)","v":""},92,4]
[{"$f":"IF(setup!C93=\"\",\"\",setup!C93)","v":""},93,4]
[{"$f":"IF(setup!C94=\"\",\"\",setup!C94)","v":""},94,4]
[{"$f":"IF(setup!C95=\"\",\"\",setup!C95)","v":""},95,4]
[{"$f":"IF(setup!C96=\"\",\"\",setup!C96)","v":""},96,4]
[{"$f":"IF(setup!C97=\"\",\"\",setup!C97)","v":""},97,4]
[{"$f":"IF(setup!C98=\"\",\"\",setup!C98)","v":""},98,4]
[{"$f":"IF(setup!C99=\"\",\"\",setup!C99)","v":""},99,4]
[{"$f":"IF(setup!C100=\"\",\"\",setup!C100)","v":""},100,4]
[{"$f":"IF(setup!C101=\"\",\"\",setup!C101)","v":""},101,4]
[{"$f":"IF(setup!C102=\"\",\"\",setup!C102)","v":""},102,4]
[{"$f":"IF(setup!C103=\"\",\"\",setup!C103)","v":""},103,4]
[{"$f":"IF(setup!C104=\"\",\"\",setup!C104)","v":""},104,4]

{"sheet":"S","index":3,"n_rows":4,"n_cols":1,"rows_kept":4,"cut":false,"hidden":true,"merged":[]}
[]
["済"]
[{"$f":"TODAY()","v":"2017-07-29"}]
[{"$f":"set!$M$1","v":"保存"}]