{"text_format":"1","workbook":"xlsx","n_sheets":4,"sheets":["アンケート","説明","set","S"],"not_rendered":{"charts":0,"images":3,"macros":1,"external_links":0,"defined_names":1,"comments":0,"pivot_tables":0},"unopened":[],"bounds":{"document_bytes":16777216,"sheet_cells":100000,"rows_first":2000,"rows_last":500,"rows_between":2000,"halvings":0,"cell_chars":16384,"cell_head_chars":4096},"cells_cut":0,"cells_raw":0,"read":"whole","date_system":"1900"}

{"sheet":"アンケート","index":0,"n_rows":15,"n_cols":11,"rows_kept":15,"cut":false,"hidden":false,"merged":[[1,1,1,2],[1,5,1,6],[2,5,2,6],[4,1,4,6],[5,1,5,6],[6,1,6,6],[7,2,7,4],[7,5,7,6],[8,2,8,5],[8,11,8,14],[9,2,9,3],[9,4,9,6],[9,11,9,12],[9,13,9,15],[10,2,10,5],[10,11,10,14],[11,2,11,5],[12,2,12,5],[13,2,13,5],[14,2,14,5],[15,2,15,5],[16,2,16,5],[17,2,17,5],[18,2,18,5],[24,2,24,5],[25,2,25,5],[26,2,26,5],[27,2,27,5],[19,2,19,5],[20,2,20,5],[21,2,21,5],[22,2,22,5],[23,2,23,5],[28,2,28,5],[29,2,29,5],[30,2,30,5],[31,2,31,5],[32,2,32,5],[33,2,33,5],[34,2,34,5],[35,2,35,5],[36,2,36,5],[37,2,37,5],[38,2,38,5],[39,2,39,5],[40,2,40,5],[41,2,41,5],[42,2,42,5],[43,2,43,5],[44,2,44,5],[45,2,45,5],[46,2,46,5],[47,2,47,5],[48,2,48,5],[49,2,49,5],[50,2,50,5],[51,2,51,5],[52,2,52,5],[53,2,53,5],[54,2,54,5],[55,2,55,5],[56,2,56,5],[57,2,57,5]]}
[null,null,null,null,null,"枠に入力後 送信ボタンを押してください"]
[null,"○○○",null,null,"所属"]
[null,null,"についてのアンケート",null,"氏名"]
[null,"＜連絡欄＞",null,null,"年齢・性別"]
[]
[]
[null,"選択内容（ 5非常に良い 4良い 3普通 2悪い 1非常に悪い ）"]
[null,"（設定）","質　問　内　容",null,null,"回答（記入or選択）"]
["1.","選択形式",null,null,null,null,null,null,null,{"$f":"IF(E9<>\"\",E9,IF(G9<>\"\",G9,\"\"))","v":""},"選択形式"]
["2.","記入形式",null,null,null,null,null,null,null,{"$f":"IF(E10<>\"\",E10,IF(G10<>\"\",G10,\"\"))","v":""},"記入形式"]
[null,null,null,null,null,null,null,null,null,""]
[null,null,null,null,null,null,null,null,null,""]
[null,null,null,null,null,null,null,null,null,""]
[null,null,null,null,null,null,null,null,null,""]
[null,null,null,null,null,null,null,null,null,""]

{"sheet":"説明","index":1,"n_rows":78,"n_cols":7,"rows_kept":78,"cut":false,"hidden":false,"merged":[[2,6,2,7],[6,1,6,6]]}
[null,"ｅ－テンプレート　",null,"★★★　ご案内　★★★"]
[]
[null,null,null,null,null,"ご入会・コース変更のお手続きはこちら　→　","会員登録ページへ"]
[]
[]
[]
[null,"◇◇◇◇◇◇　このテンプレートの目的　◇◇◇◇◇◇"]
[]
[null,"記述式アンケートを手軽にペーパーレス化！"]
[null,"回答入力完了後 [送信] を押した段階で回答は集約できており、集計作業が自動化できます。"]
[]
[null,"アンケート作成者が、選択形式、記入形式を自由に選べる汎用型です。"]
[]
[]
[null,"・選択形式",null,"選択内容（ 5非常に良い 4良い 3普通 2悪い 1非常に悪い ）"]
[null,null,null,null,null,"↑"]
[null,null,null,null,null,"5段階の内容は自由に設定可能です"]
[]
[null,"・記入形式",null,"データ化することでキーワード検索等が可能となります。"]
[null,null,null,"（例）1000名分の回答の中から「至急」というキーワードを含む回答のみ抽出する。"]
[]
[]
[]
[]
[]
["（利用者用）■■■■■　入力・印刷・送信　■■■■■"]
[]
[null,"Windows7、EXCEL2010以上で動作します。"]
[null,"パソコンがインターネットに接続されていることを確認してください。"]
[]
[null,"送信できない場合は上記スペックのパソコンへ転送して代理送信してください。"]
[]
[null,"回答内容を保存しておきたい場合は一般のエクセルファイル同様、印刷・保存が可能です。"]
[]
[]
[]
[]
[]
[]
["（管理者用）◆◆◆◆◆　設定・配布・集計　◆◆◆◆◆"]
[]
[null,"このテンプレートをはじめて開いた時、IDを聞いてきます。"]
[null,"①","体験版・・・として利用される場合は、そのまま[OK]"]
[null,"②","Web会員・無料会員・・・会員登録時に設定されたIDをご登録ください。"]
[null,"③","法人会員・・・テンプレート用パスワードをお持ちの場合はご登録ください。"]
[]
[]
[null,"IDを登録、保存した時点で個別会員専用テンプレートとしてご利用が開始できます。"]
[null,"まえもって社名、住所を入力して必要な方々へメール添付等で配布してください。"]
[]
[]
[null,"集計結果を公開したくない場合、[集計ボタン削除]で集計ができないようにしてから"]
[null,"必要な方々へメール添付等で配布してください。"]
[null,"この場合、集計ボタン付きは管理者専用として大切に保管してください。"]
[]
[]
[null,"[データ消去] ボタンは、テスト送信データ等を消去できます。"]
[null,"いったん消去したデータは元に戻せませんので、消去前に保存することをお薦めします。"]
[]
[]
[]
[]
[null,"設定","選択形式 / 記入形式の設定方法"]
[]
[]
[]
[]
[]
[]
[]
[]
[]
[]
[]
[]
[]
[]
[null,null,null,"質問形式をプルダウンリストから選択"]

{"sheet":"set","index":2,"n_rows":55,"n_cols":13,"rows_kept":55,"cut":false,"hidden":true,"merged":[]}
["項目名","行no","列no","入力ﾁｪｯｸ","ファイル名=",{"$f":"\"【アンケート3】\" &アンケート!$B$2","v":"【アンケート3】○○○"},".csv",null,null,"Option","stamp/行",23,"保存"]
["所属",2,6,1,"fd=","taiken",null,null,null,null,"stamp/列",5]
["氏名",3,6,1,"id=","taiken",null,null,null,null,"Date="]
["年齢",4,6,null,"ps=","wp57pz12","電書鳩","電or予約"]
["性別",4,7,null,"入会ｻｲﾄ","http://e-template.biz/register/","許可","連続送信の許可"]
[{"$f":"IF(アンケート!$A9=\"\",\"\",アンケート!$A9&アンケート!$B9)","v":"1.選択形式"},9,10]
[{"$f":"IF(アンケート!$A10=\"\",\"\",アンケート!$A10&アンケート!$B10)","v":"2.記入形式"},10,10]
[{"$f":"IF(アンケート!$A11=\"\",\"\",アンケート!$A11&アンケート!$B11)","v":""},11,10]
[{"$f":"IF(アンケート!$A12=\"\",\"\",アンケート!$A12&アンケート!$B12)","v":""},12,10]
[{"$f":"IF(アンケート!$A13=\"\",\"\",アンケート!$A13&アンケート!$B13)","v":""},13,10,null,null,"←予約鳩・1次元送信ボタン"]
[{"$f":"IF(アンケート!$A14=\"\",\"\",アンケート!$A14&アンケート!$B14)","v":""},14,10]
[{"$f":"IF(アンケート!$A15=\"\",\"\",アンケート!$A15&アンケート!$B15)","v":""},15,10,null,null,"←予約鳩・2次元送信ボタン"]
[{"$f":"IF(アンケート!$A16=\"\",\"\",アンケート!$A16&アンケート!$B16)","v":""},16,10]
[{"$f":"IF(アンケート!$A17=\"\",\"\",アンケート!$A17&アンケート!$B17)","v":""},17,10,null,null,"←電書鳩・1次元送信ボタン"]
[{"$f":"IF(アンケート!$A18=\"\",\"\",アンケート!$A18&アンケート!$B18)","v":""},18,10]
[{"$f":"IF(アンケート!$A19=\"\",\"\",アンケート!$A19&アンケート!$B19)","v":""},19,10,null,null,"←電書鳩・2次元送信ボタン"]
[{"$f":"IF(アンケート!$A20=\"\",\"\",アンケート!$A20&アンケート!$B20)","v":""},20,10]
[{"$f":"IF(アンケート!$A21=\"\",\"\",アンケート!$A21&アンケート!$B21)","v":""},21,10,null,null,"←全集計結果を取得"]
[{"$f":"IF(アンケート!$A22=\"\",\"\",アンケート!$A22&アンケート!$B22)","v":""},22,10]
[{"$f":"IF(アンケート!$A23=\"\",\"\",アンケート!$A23&アンケート!$B23)","v":""},23,10,null,null,"←該当PCの送信内容のみ取得"]
[{"$f":"IF(アンケート!$A24=\"\",\"\",アンケート!$A24&アンケート!$B24)","v":""},24,10]
[{"$f":"IF(アンケート!$A25=\"\",\"\",アンケート!$A25&アンケート!$B25)","v":""},25,10,null,null,"←該当PC最新送信内容を再現"]
[{"$f":"IF(アンケート!$A26=\"\",\"\",アンケート!$A26&アンケート!$B26)","v":""},26,10]
[{"$f":"IF(アンケート!$A27=\"\",\"\",アンケート!$A27&アンケート!$B27)","v":""},27,10]
[{"$f":"IF(アンケート!$A28=\"\",\"\",アンケート!$A28&アンケート!$B28)","v":""},28,10]
[{"$f":"IF(アンケート!$A29=\"\",\"\",アンケート!$A29&アンケート!$B29)","v":""},29,10]
[{"$f":"IF(アンケート!$A30=\"\",\"\",アンケート!$A30&アンケート!$B30)","v":""},30,10]
[{"$f":"IF(アンケート!$A31=\"\",\"\",アンケート!$A31&アンケート!$B31)","v":""},31,10]
[{"$f":"IF(アンケート!$A32=\"\",\"\",アンケート!$A32&アンケート!$B32)","v":""},32,10]
[{"$f":"IF(アンケート!$A33=\"\",\"\",アンケート!$A33&アンケート!$B33)","v":""},33,10]
[{"$f":"IF(アンケート!$A34=\"\",\"\",アンケート!$A34&アンケート!$B34)","v":""},34,10]
[{"$f":"IF(アンケート!$A35=\"\",\"\",アンケート!$A35&アンケート!$B35)","v":""},35,10]
[{"$f":"IF(アンケート!$A36=\"\",\"\",アンケート!$A36&アンケート!$B36)","v":""},36,10]
[{"$f":"IF(アンケート!$A37=\"\",\"\",アンケート!$A37&アンケート!$B37)","v":""},37,10]
[{"$f":"IF(アンケート!$A38=\"\",\"\",アンケート!$A38&アンケート!$B38)","v":""},38,10]
[{"$f":"IF(アンケート!$A39=\"\",\"\",アンケート!$A39&アンケート!$B39)","v":""},39,10]
[{"$f":"IF(アンケート!$A40=\"\",\"\",アンケート!$A40&アンケート!$B40)","v":""},40,10]
[{"$f":"IF(アンケート!$A41=\"\",\"\",アンケート!$A41&アンケート!$B41)","v":""},41,10]
[{"$f":"IF(アンケート!$A42=\"\",\"\",アンケート!$A42&アンケート!$B42)","v":""},42,10]
[{"$f":"IF(アンケート!$A43=\"\",\"\",アンケート!$A43&アンケート!$B43)","v":""},43,10]
[{"$f":"IF(アンケート!$A44=\"\",\"\",アンケート!$A44&アンケート!$B44)","v":""},44,10]
[{"$f":"IF(アンケート!$A45=\"\",\"\",アンケート!$A45&アンケート!$B45)","v":""},45,10]
[{"$f":"IF(アンケート!$A46=\"\",\"\",アンケート!$A46&アンケート!$B46)","v":""},46,10]
[{"$f":"IF(アンケート!$A47=\"\",\"\",アンケート!$A47&アンケート!$B47)","v":""},47,10]
[{"$f":"IF(アンケート!$A48=\"\",\"\",アンケート!$A48&アンケート!$B48)","v":""},48,10]
[{"$f":"IF(アンケート!$A49=\"\",\"\",アンケート!$A49&アンケート!$B49)","v":""},49,10]
[{"$f":"IF(アンケート!$A50=\"\",\"\",アンケート!$A50&アンケート!$B50)","v":""},50,10]
[{"$f":"IF(アンケート!$A51=\"\",\"\",アンケート!$A51&アンケート!$B51)","v":""},51,10]
[{"$f":"IF(アンケート!$A52=\"\",\"\",アンケート!$A52&アンケート!$B52)","v":""},52,10]
[{"$f":"IF(アンケート!$A53=\"\",\"\",アンケート!$A53&アンケート!$B53)","v":""},53,10]
[{"$f":"IF(アンケート!$A54=\"\",\"\",アンケート!$A54&アンケート!$B54)","v":""},54,10]
[{"$f":"IF(アンケート!$A55=\"\",\"\",アンケート!$A55&アンケート!$B55)","v":""},55,10]
[{"$f":"IF(アンケート!$A56=\"\",\"\",アンケート!$A56&アンケート!$B56)","v":""},56,10]
[{"$f":"IF(アンケート!$A57=\"\",\"\",アンケート!$A57&アンケート!$B57)","v":""},57,10]
[{"$f":"IF(アンケート!$A58=\"\",\"\",アンケート!$A58&アンケート!$B58)","v":""},58,10]

{"sheet":"S","index":3,"n_rows":4,"n_cols":1,"rows_kept":4,"cut":false,"hidden":true,"merged":[]}
[]
["済"]
[{"$f":"TODAY()","v":"2017-07-23"}]
[{"$f":"set!$M$1","v":"保存"}]